BEGIN:VCALENDAR
VERSION:2.0
PRODID:-//Kronobergs läns pistolskyttekrets - ECPv6.0.10//NONSGML v1.0//EN
CALSCALE:GREGORIAN
METHOD:PUBLISH
X-WR-CALNAME:Kronobergs läns pistolskyttekrets
X-ORIGINAL-URL:https://kronobergspistol.se
X-WR-CALDESC:Events for Kronobergs läns pistolskyttekrets
REFRESH-INTERVAL;VALUE=DURATION:PT1H
X-Robots-Tag:noindex
X-PUBLISHED-TTL:PT1H
BEGIN:VTIMEZONE
TZID:Europe/Stockholm
BEGIN:DAYLIGHT
TZOFFSETFROM:+0100
TZOFFSETTO:+0200
TZNAME:CEST
DTSTART:20260329T010000
END:DAYLIGHT
BEGIN:STANDARD
TZOFFSETFROM:+0200
TZOFFSETTO:+0100
TZNAME:CET
DTSTART:20261025T010000
END:STANDARD
END:VTIMEZONE
BEGIN:VEVENT
DTSTART;VALUE=DATE:20260208
DTEND;VALUE=DATE:20260209
DTSTAMP:20260423T171048
CREATED:20260111T235940Z
LAST-MODIFIED:20260111T235940Z
UID:5906-1770508800-1770595199@kronobergspistol.se
SUMMARY:Kullaknallen 2026\, Höganäs
DESCRIPTION:Inbjudan kullaknallen 2026
URL:https://kronobergspistol.se/event/kullaknallen-2026-hoganas/
CATEGORIES:Fält
END:VEVENT
END:VCALENDAR