BEGIN:VCALENDAR
VERSION:2.0
PRODID:-//Kronobergs läns pistolskyttekrets - ECPv6.0.10//NONSGML v1.0//EN
CALSCALE:GREGORIAN
METHOD:PUBLISH
X-ORIGINAL-URL:https://kronobergspistol.se
X-WR-CALDESC:Events for Kronobergs läns pistolskyttekrets
REFRESH-INTERVAL;VALUE=DURATION:PT1H
X-Robots-Tag:noindex
X-PUBLISHED-TTL:PT1H
BEGIN:VTIMEZONE
TZID:Europe/Stockholm
BEGIN:DAYLIGHT
TZOFFSETFROM:+0100
TZOFFSETTO:+0200
TZNAME:CEST
DTSTART:20260329T010000
END:DAYLIGHT
BEGIN:STANDARD
TZOFFSETFROM:+0200
TZOFFSETTO:+0100
TZNAME:CET
DTSTART:20261025T010000
END:STANDARD
END:VTIMEZONE
BEGIN:VEVENT
DTSTART;TZID=Europe/Stockholm:20260628T090000
DTEND;TZID=Europe/Stockholm:20260628T153000
DTSTAMP:20260420T063630
CREATED:20260104T230238Z
LAST-MODIFIED:20260104T230238Z
UID:5823-1782637200-1782660600@kronobergspistol.se
SUMMARY:KretsM Prec B + Kretsban 2
DESCRIPTION:Markaryd
URL:https://kronobergspistol.se/event/kretsm-prec-b-kretsban-2-2/
CATEGORIES:Precision
END:VEVENT
END:VCALENDAR