BEGIN:VCALENDAR
VERSION:2.0
PRODID:-//Kronobergs läns pistolskyttekrets - ECPv6.0.10//NONSGML v1.0//EN
CALSCALE:GREGORIAN
METHOD:PUBLISH
X-ORIGINAL-URL:https://kronobergspistol.se
X-WR-CALDESC:Events for Kronobergs läns pistolskyttekrets
REFRESH-INTERVAL;VALUE=DURATION:PT1H
X-Robots-Tag:noindex
X-PUBLISHED-TTL:PT1H
BEGIN:VTIMEZONE
TZID:Europe/Stockholm
BEGIN:DAYLIGHT
TZOFFSETFROM:+0100
TZOFFSETTO:+0200
TZNAME:CEST
DTSTART:20240331T010000
END:DAYLIGHT
BEGIN:STANDARD
TZOFFSETFROM:+0200
TZOFFSETTO:+0100
TZNAME:CET
DTSTART:20241027T010000
END:STANDARD
END:VTIMEZONE
BEGIN:VEVENT
DTSTART;VALUE=DATE:20240728
DTEND;VALUE=DATE:20240729
DTSTAMP:20260421T150526
CREATED:20240123T232557Z
LAST-MODIFIED:20240701T084621Z
UID:4698-1722124800-1722211199@kronobergspistol.se
SUMMARY:KretsM Snabbskjutning
DESCRIPTION:Arrangör: Tingsryd \nTingsryds Psk inbjuder till krets mästerskap i snabbskytte 2024 \n 
URL:https://kronobergspistol.se/event/kretsm-snabbskjutning/
CATEGORIES:Snabbskjutning
END:VEVENT
END:VCALENDAR