BEGIN:VCALENDAR
VERSION:2.0
PRODID:-//Kronobergs läns pistolskyttekrets - ECPv6.0.10//NONSGML v1.0//EN
CALSCALE:GREGORIAN
METHOD:PUBLISH
X-WR-CALNAME:Kronobergs läns pistolskyttekrets
X-ORIGINAL-URL:https://kronobergspistol.se
X-WR-CALDESC:Events for Kronobergs läns pistolskyttekrets
REFRESH-INTERVAL;VALUE=DURATION:PT1H
X-Robots-Tag:noindex
X-PUBLISHED-TTL:PT1H
BEGIN:VTIMEZONE
TZID:Europe/Stockholm
BEGIN:DAYLIGHT
TZOFFSETFROM:+0100
TZOFFSETTO:+0200
TZNAME:CEST
DTSTART:20260329T010000
END:DAYLIGHT
BEGIN:STANDARD
TZOFFSETFROM:+0200
TZOFFSETTO:+0100
TZNAME:CET
DTSTART:20261025T010000
END:STANDARD
END:VTIMEZONE
BEGIN:VEVENT
DTSTART;VALUE=DATE:20260322
DTEND;VALUE=DATE:20260323
DTSTAMP:20260422T003620
CREATED:20260104T225201Z
LAST-MODIFIED:20260104T225201Z
UID:5811-1774137600-1774223999@kronobergspistol.se
SUMMARY:Kretsårsmöte
DESCRIPTION:Växjö Lövåsen
URL:https://kronobergspistol.se/event/kretsarsmote-4/
END:VEVENT
BEGIN:VEVENT
DTSTART;TZID=Europe/Stockholm:20260322T090000
DTEND;TZID=Europe/Stockholm:20260322T160000
DTSTAMP:20260422T003620
CREATED:20260104T225017Z
LAST-MODIFIED:20260104T225017Z
UID:5809-1774170000-1774195200@kronobergspistol.se
SUMMARY:KretsM Fält A + Kretsfält 1
DESCRIPTION:Växjö\, Lövåsen
URL:https://kronobergspistol.se/event/kretsm-falt-a-kretsfalt-1/
CATEGORIES:Fält
END:VEVENT
BEGIN:VEVENT
DTSTART;VALUE=DATE:20260328
DTEND;VALUE=DATE:20260329
DTSTAMP:20260422T003620
CREATED:20260311T235803Z
LAST-MODIFIED:20260311T235803Z
UID:5935-1774656000-1774742399@kronobergspistol.se
SUMMARY:Jämjöfiluren
DESCRIPTION:När: Lördag 28/3 \nVar: Jämjö SPK \nVapengrupp: A\, Ropt (A optisk)\, C\, R \nAvgift: 140 kr per start \nSenaste anmälningsdag: 24/3-26 \nAnmälan via: https://webshooter.se \n 
URL:https://kronobergspistol.se/event/jamjofiluren/
CATEGORIES:Fält
END:VEVENT
BEGIN:VEVENT
DTSTART;VALUE=DATE:20260412
DTEND;VALUE=DATE:20260413
DTSTAMP:20260422T003620
CREATED:20260330T231457Z
LAST-MODIFIED:20260330T231559Z
UID:5978-1775952000-1776038399@kronobergspistol.se
SUMMARY:Kalmarträffen
DESCRIPTION:InbjudanKalmartraffen2026
URL:https://kronobergspistol.se/event/kalmartraffen/
CATEGORIES:Fält
END:VEVENT
BEGIN:VEVENT
DTSTART;TZID=Europe/Stockholm:20260412T080000
DTEND;TZID=Europe/Stockholm:20260412T080000
DTSTAMP:20260422T003620
CREATED:20260322T221946Z
LAST-MODIFIED:20260322T222144Z
UID:5951-1775980800-1775980800@kronobergspistol.se
SUMMARY:Örkeljunga\, Fält
DESCRIPTION:2026-04-12 Örkelljunga
URL:https://kronobergspistol.se/event/orkeljunga/
CATEGORIES:Fält
END:VEVENT
BEGIN:VEVENT
DTSTART;TZID=Europe/Stockholm:20260419T090000
DTEND;TZID=Europe/Stockholm:20260419T160000
DTSTAMP:20260422T003620
CREATED:20260104T225412Z
LAST-MODIFIED:20260322T222230Z
UID:5813-1776589200-1776614400@kronobergspistol.se
SUMMARY:KretsM Fält B + Kretsfält 2
DESCRIPTION:Ljungby \n2026-04-19 Inbjudan
URL:https://kronobergspistol.se/event/kretsm-falt-b-kretsfalt-2/
CATEGORIES:Fält
END:VEVENT
BEGIN:VEVENT
DTSTART;TZID=Europe/Stockholm:20260426T090000
DTEND;TZID=Europe/Stockholm:20260426T163000
DTSTAMP:20260422T003620
CREATED:20260104T225617Z
LAST-MODIFIED:20260416T213252Z
UID:5815-1777194000-1777221000@kronobergspistol.se
SUMMARY:KretsM MilSnabb C+B
DESCRIPTION:Tingsryd \n  \nInbjudan
URL:https://kronobergspistol.se/event/kretsm-milsnabb-cb/
CATEGORIES:Militär Snabbmatch
END:VEVENT
BEGIN:VEVENT
DTSTART;TZID=Europe/Stockholm:20260503T080000
DTEND;TZID=Europe/Stockholm:20260503T170000
DTSTAMP:20260422T003620
CREATED:20260104T225835Z
LAST-MODIFIED:20260416T213340Z
UID:5817-1777795200-1777827600@kronobergspistol.se
SUMMARY:Kretsban 1
DESCRIPTION:Berga \n2026-05-03  Inbjudan
URL:https://kronobergspistol.se/event/kretsban-1-4/
CATEGORIES:Precision
END:VEVENT
BEGIN:VEVENT
DTSTART;TZID=Europe/Stockholm:20260510T090000
DTEND;TZID=Europe/Stockholm:20260510T150000
DTSTAMP:20260422T003620
CREATED:20260104T225951Z
LAST-MODIFIED:20260419T202019Z
UID:5819-1778403600-1778425200@kronobergspistol.se
SUMMARY:KretsM Magnum Precision
DESCRIPTION:Älmhult \nTävlingsinbjudan Magnumprecision 2026 – Inbjudan
URL:https://kronobergspistol.se/event/kretsm-magnum-precision-4/
CATEGORIES:Magnum Prec
END:VEVENT
BEGIN:VEVENT
DTSTART;VALUE=DATE:20260516
DTEND;VALUE=DATE:20260518
DTSTAMP:20260422T003620
CREATED:20260322T222513Z
LAST-MODIFIED:20260322T222721Z
UID:5956-1778889600-1779062399@kronobergspistol.se
SUMMARY:SydSvenska Mästerskapen i Fält\,
DESCRIPTION:SSM-Fält 2026
URL:https://kronobergspistol.se/event/sydsvenska-masterskapen-i-falt/
CATEGORIES:Fält
END:VEVENT
BEGIN:VEVENT
DTSTART;TZID=Europe/Stockholm:20260607T090000
DTEND;TZID=Europe/Stockholm:20260607T170000
DTSTAMP:20260422T003620
CREATED:20260104T230033Z
LAST-MODIFIED:20260104T230033Z
UID:5821-1780822800-1780851600@kronobergspistol.se
SUMMARY:Växjöträffen
DESCRIPTION:Växjö
URL:https://kronobergspistol.se/event/vaxjotraffen-2/
CATEGORIES:Precision
END:VEVENT
BEGIN:VEVENT
DTSTART;TZID=Europe/Stockholm:20260628T090000
DTEND;TZID=Europe/Stockholm:20260628T153000
DTSTAMP:20260422T003620
CREATED:20260104T230238Z
LAST-MODIFIED:20260104T230238Z
UID:5823-1782637200-1782660600@kronobergspistol.se
SUMMARY:KretsM Prec B + Kretsban 2
DESCRIPTION:Markaryd
URL:https://kronobergspistol.se/event/kretsm-prec-b-kretsban-2-2/
CATEGORIES:Precision
END:VEVENT
BEGIN:VEVENT
DTSTART;TZID=Europe/Stockholm:20260726T090000
DTEND;TZID=Europe/Stockholm:20260726T150000
DTSTAMP:20260422T003620
CREATED:20260104T230353Z
LAST-MODIFIED:20260104T231406Z
UID:5825-1785056400-1785078000@kronobergspistol.se
SUMMARY:KretsM Snabb
DESCRIPTION:Alvesta
URL:https://kronobergspistol.se/event/kretsm-snabb-2/
CATEGORIES:Snabbskjutning
END:VEVENT
BEGIN:VEVENT
DTSTART;TZID=Europe/Stockholm:20260816T090000
DTEND;TZID=Europe/Stockholm:20260816T170000
DTSTAMP:20260422T003620
CREATED:20260104T231509Z
LAST-MODIFIED:20260104T231509Z
UID:5827-1786870800-1786899600@kronobergspistol.se
SUMMARY:KretsM Prec A + Kretsban 3
DESCRIPTION:Lenhovda
URL:https://kronobergspistol.se/event/kretsm-prec-a-kretsban-3-2/
CATEGORIES:Precision
END:VEVENT
BEGIN:VEVENT
DTSTART;TZID=Europe/Stockholm:20260913T090000
DTEND;TZID=Europe/Stockholm:20260913T170000
DTSTAMP:20260422T003620
CREATED:20260104T231627Z
LAST-MODIFIED:20260104T231627Z
UID:5829-1789290000-1789318800@kronobergspistol.se
SUMMARY:KretsM Prec C + Kretsban 4
DESCRIPTION:Älmhult
URL:https://kronobergspistol.se/event/kretsm-prec-c-kretsban-4-2/
CATEGORIES:Precision
END:VEVENT
BEGIN:VEVENT
DTSTART;TZID=Europe/Stockholm:20260927T080000
DTEND;TZID=Europe/Stockholm:20260927T170000
DTSTAMP:20260422T003620
CREATED:20260104T231840Z
LAST-MODIFIED:20260104T231840Z
UID:5831-1790496000-1790528400@kronobergspistol.se
SUMMARY:KretsM Mil Snabb A+R
DESCRIPTION:Tingsryd
URL:https://kronobergspistol.se/event/kretsm-mil-snabb-ar-3/
CATEGORIES:Militär Snabbmatch
END:VEVENT
BEGIN:VEVENT
DTSTART;TZID=Europe/Stockholm:20261004T090000
DTEND;TZID=Europe/Stockholm:20261004T170000
DTSTAMP:20260422T003620
CREATED:20260104T231939Z
LAST-MODIFIED:20260104T231939Z
UID:5833-1791104400-1791133200@kronobergspistol.se
SUMMARY:KretsM Fält C + Kretsfält 3
DESCRIPTION:Ljungby
URL:https://kronobergspistol.se/event/kretsm-falt-c-kretsfalt-3-2/
CATEGORIES:Fält
END:VEVENT
BEGIN:VEVENT
DTSTART;TZID=Europe/Stockholm:20261018T090000
DTEND;TZID=Europe/Stockholm:20261018T170000
DTSTAMP:20260422T003620
CREATED:20260104T232031Z
LAST-MODIFIED:20260104T232152Z
UID:5835-1792314000-1792342800@kronobergspistol.se
SUMMARY:KretsM Fält R + Kretsfält 4
DESCRIPTION:Älmhult
URL:https://kronobergspistol.se/event/kretsm-falt-r-kretsfalt-4-2/
CATEGORIES:Fält
END:VEVENT
END:VCALENDAR