BEGIN:VCALENDAR
VERSION:2.0
PRODID:-//Kronobergs läns pistolskyttekrets - ECPv6.0.10//NONSGML v1.0//EN
CALSCALE:GREGORIAN
METHOD:PUBLISH
X-WR-CALNAME:Kronobergs läns pistolskyttekrets
X-ORIGINAL-URL:https://kronobergspistol.se
X-WR-CALDESC:Events for Kronobergs läns pistolskyttekrets
REFRESH-INTERVAL;VALUE=DURATION:PT1H
X-Robots-Tag:noindex
X-PUBLISHED-TTL:PT1H
BEGIN:VTIMEZONE
TZID:Europe/Stockholm
BEGIN:DAYLIGHT
TZOFFSETFROM:+0100
TZOFFSETTO:+0200
TZNAME:CEST
DTSTART:20260329T010000
END:DAYLIGHT
BEGIN:STANDARD
TZOFFSETFROM:+0200
TZOFFSETTO:+0100
TZNAME:CET
DTSTART:20261025T010000
END:STANDARD
END:VTIMEZONE
BEGIN:VEVENT
DTSTART;TZID=Europe/Stockholm:20260816T090000
DTEND;TZID=Europe/Stockholm:20260816T170000
DTSTAMP:20260421T205241
CREATED:20260104T231509Z
LAST-MODIFIED:20260104T231509Z
UID:5827-1786870800-1786899600@kronobergspistol.se
SUMMARY:KretsM Prec A + Kretsban 3
DESCRIPTION:Lenhovda
URL:https://kronobergspistol.se/event/kretsm-prec-a-kretsban-3-2/
CATEGORIES:Precision
END:VEVENT
BEGIN:VEVENT
DTSTART;TZID=Europe/Stockholm:20260913T090000
DTEND;TZID=Europe/Stockholm:20260913T170000
DTSTAMP:20260421T205241
CREATED:20260104T231627Z
LAST-MODIFIED:20260104T231627Z
UID:5829-1789290000-1789318800@kronobergspistol.se
SUMMARY:KretsM Prec C + Kretsban 4
DESCRIPTION:Älmhult
URL:https://kronobergspistol.se/event/kretsm-prec-c-kretsban-4-2/
CATEGORIES:Precision
END:VEVENT
BEGIN:VEVENT
DTSTART;TZID=Europe/Stockholm:20260927T080000
DTEND;TZID=Europe/Stockholm:20260927T170000
DTSTAMP:20260421T205241
CREATED:20260104T231840Z
LAST-MODIFIED:20260104T231840Z
UID:5831-1790496000-1790528400@kronobergspistol.se
SUMMARY:KretsM Mil Snabb A+R
DESCRIPTION:Tingsryd
URL:https://kronobergspistol.se/event/kretsm-mil-snabb-ar-3/
CATEGORIES:Militär Snabbmatch
END:VEVENT
BEGIN:VEVENT
DTSTART;TZID=Europe/Stockholm:20261004T090000
DTEND;TZID=Europe/Stockholm:20261004T170000
DTSTAMP:20260421T205241
CREATED:20260104T231939Z
LAST-MODIFIED:20260104T231939Z
UID:5833-1791104400-1791133200@kronobergspistol.se
SUMMARY:KretsM Fält C + Kretsfält 3
DESCRIPTION:Ljungby
URL:https://kronobergspistol.se/event/kretsm-falt-c-kretsfalt-3-2/
CATEGORIES:Fält
END:VEVENT
BEGIN:VEVENT
DTSTART;TZID=Europe/Stockholm:20261018T090000
DTEND;TZID=Europe/Stockholm:20261018T170000
DTSTAMP:20260421T205241
CREATED:20260104T232031Z
LAST-MODIFIED:20260104T232152Z
UID:5835-1792314000-1792342800@kronobergspistol.se
SUMMARY:KretsM Fält R + Kretsfält 4
DESCRIPTION:Älmhult
URL:https://kronobergspistol.se/event/kretsm-falt-r-kretsfalt-4-2/
CATEGORIES:Fält
END:VEVENT
END:VCALENDAR