BEGIN:VCALENDAR
VERSION:2.0
PRODID:-//Kronobergs läns pistolskyttekrets - ECPv6.0.10//NONSGML v1.0//EN
CALSCALE:GREGORIAN
METHOD:PUBLISH
X-WR-CALNAME:Kronobergs läns pistolskyttekrets
X-ORIGINAL-URL:https://kronobergspistol.se
X-WR-CALDESC:Events for Kronobergs läns pistolskyttekrets
REFRESH-INTERVAL;VALUE=DURATION:PT1H
X-Robots-Tag:noindex
X-PUBLISHED-TTL:PT1H
BEGIN:VTIMEZONE
TZID:Europe/Stockholm
BEGIN:DAYLIGHT
TZOFFSETFROM:+0100
TZOFFSETTO:+0200
TZNAME:CEST
DTSTART:20230326T010000
END:DAYLIGHT
BEGIN:STANDARD
TZOFFSETFROM:+0200
TZOFFSETTO:+0100
TZNAME:CET
DTSTART:20231029T010000
END:STANDARD
BEGIN:DAYLIGHT
TZOFFSETFROM:+0100
TZOFFSETTO:+0200
TZNAME:CEST
DTSTART:20240331T010000
END:DAYLIGHT
BEGIN:STANDARD
TZOFFSETFROM:+0200
TZOFFSETTO:+0100
TZNAME:CET
DTSTART:20241027T010000
END:STANDARD
END:VTIMEZONE
BEGIN:VEVENT
DTSTART;VALUE=DATE:20240407
DTEND;VALUE=DATE:20240408
DTSTAMP:20260422T034606
CREATED:20240404T110504Z
LAST-MODIFIED:20240404T110504Z
UID:4920-1712448000-1712534399@kronobergspistol.se
SUMMARY:Kalmarträffen - Inställd
DESCRIPTION:2024-04-07 Kalmarträffen
URL:https://kronobergspistol.se/event/kalmartraffen-installd/
CATEGORIES:Fält
END:VEVENT
BEGIN:VEVENT
DTSTART;VALUE=DATE:20240317
DTEND;VALUE=DATE:20240318
DTSTAMP:20260422T034606
CREATED:20240123T224948Z
LAST-MODIFIED:20240210T155650Z
UID:4675-1710633600-1710719999@kronobergspistol.se
SUMMARY:KretsM Fält A
DESCRIPTION:KretsM Fält A + Kretsfält 1 \nArrangör: Växjö \n  \n2024-03-17 Kretsfält o KretsM Fält A
URL:https://kronobergspistol.se/event/kretsm-falt-a/
CATEGORIES:Fält
END:VEVENT
BEGIN:VEVENT
DTSTART;VALUE=DATE:20240302
DTEND;VALUE=DATE:20240304
DTSTAMP:20260422T034606
CREATED:20240204T160550Z
LAST-MODIFIED:20240204T160550Z
UID:4729-1709337600-1709510399@kronobergspistol.se
SUMMARY:Kretsfält 1\, Malmöhus pistolkrets
DESCRIPTION:Inbjudan KF1 2024_ny
URL:https://kronobergspistol.se/event/kretsfalt-1-malmohus-pistolkrets/
CATEGORIES:Fält
END:VEVENT
BEGIN:VEVENT
DTSTART;VALUE=DATE:20240218
DTEND;VALUE=DATE:20240219
DTSTAMP:20260422T034606
CREATED:20240123T120547Z
LAST-MODIFIED:20240123T224434Z
UID:4664-1708214400-1708300799@kronobergspistol.se
SUMMARY:Kretsmästerskap Luftpistol
DESCRIPTION:Tävlingsinbjudan Kretsluft 3
URL:https://kronobergspistol.se/event/kretsmasterskap-luftpistol/
CATEGORIES:Luftpistol
END:VEVENT
BEGIN:VEVENT
DTSTART;VALUE=DATE:20240211
DTEND;VALUE=DATE:20240212
DTSTAMP:20260422T034606
CREATED:20240123T224632Z
LAST-MODIFIED:20240124T011951Z
UID:4672-1707609600-1707695999@kronobergspistol.se
SUMMARY:Kretsårsmöte\, Växjö\, Simhallen
DESCRIPTION:
URL:https://kronobergspistol.se/event/kretsarsmote-2/
END:VEVENT
BEGIN:VEVENT
DTSTART;VALUE=DATE:20240127
DTEND;VALUE=DATE:20240128
DTSTAMP:20260422T034606
CREATED:20240113T152339Z
LAST-MODIFIED:20240123T224307Z
UID:4658-1706313600-1706399999@kronobergspistol.se
SUMMARY:Kretsluft 2
DESCRIPTION:2024-01-27 Kretsluft 2 \n \n 
URL:https://kronobergspistol.se/event/kretsluft-2-6/
CATEGORIES:Luftpistol
END:VEVENT
BEGIN:VEVENT
DTSTART;VALUE=DATE:20231210
DTEND;VALUE=DATE:20231211
DTSTAMP:20260422T034606
CREATED:20230104T182242Z
LAST-MODIFIED:20231207T092316Z
UID:3393-1702166400-1702252799@kronobergspistol.se
SUMMARY:Kretsluft 2 - Inställd!
DESCRIPTION:Kretsluft 2 \nArrangör\, Tingsryd PSK
URL:https://kronobergspistol.se/event/kretsluft-2-5/
CATEGORIES:Luftpistol
END:VEVENT
BEGIN:VEVENT
DTSTART;VALUE=DATE:20231203
DTEND;VALUE=DATE:20231204
DTSTAMP:20260422T034606
CREATED:20230103T230038Z
LAST-MODIFIED:20230103T230038Z
UID:3353-1701561600-1701647999@kronobergspistol.se
SUMMARY:Skinkskjutningen\, Vinslöv
DESCRIPTION:Skinkskjutningen\,  Fält\, Vinslöv
URL:https://kronobergspistol.se/event/skinkskjutningen-vinslov/
CATEGORIES:Fält
END:VEVENT
BEGIN:VEVENT
DTSTART;VALUE=DATE:20231125
DTEND;VALUE=DATE:20231126
DTSTAMP:20260422T034606
CREATED:20230104T181925Z
LAST-MODIFIED:20231029T170301Z
UID:3391-1700870400-1700956799@kronobergspistol.se
SUMMARY:Kretsluft 1
DESCRIPTION:Kretsluft 1 \n2023-11-25 Kretsluft 1 \nArrangör\, Växjö PK
URL:https://kronobergspistol.se/event/kretsluft-1-4/
CATEGORIES:Luftpistol
END:VEVENT
BEGIN:VEVENT
DTSTART;VALUE=DATE:20231125
DTEND;VALUE=DATE:20231126
DTSTAMP:20260422T034606
CREATED:20230103T225904Z
LAST-MODIFIED:20231108T152810Z
UID:3351-1700870400-1700956799@kronobergspistol.se
SUMMARY:Mörkerfält\, Vimmerby
DESCRIPTION:Mörkerfält \n2023-11-25 Mörkerfältskjutning
URL:https://kronobergspistol.se/event/morkerfalt-vimmerby-3/
CATEGORIES:Fält
END:VEVENT
BEGIN:VEVENT
DTSTART;VALUE=DATE:20231029
DTEND;VALUE=DATE:20231030
DTSTAMP:20260422T034606
CREATED:20230103T225650Z
LAST-MODIFIED:20230827T210908Z
UID:3347-1698537600-1698623999@kronobergspistol.se
SUMMARY:Lergökaträffen Ängelholm
DESCRIPTION:Lergökaträffen\, Fält Ängelholm \nInbjudan Lergöken 2023
URL:https://kronobergspistol.se/event/lergokatraffen-angelholm/
CATEGORIES:Fält
END:VEVENT
BEGIN:VEVENT
DTSTART;VALUE=DATE:20231029
DTEND;VALUE=DATE:20231030
DTSTAMP:20260422T034606
CREATED:20230103T175140Z
LAST-MODIFIED:20230103T175140Z
UID:3319-1698537600-1698623999@kronobergspistol.se
SUMMARY:Mårtensträffen\, Mörrum
DESCRIPTION:Mårtensträffen Fält \nPlats\, Mörrum \nArrangör\, Karlshamns Pk
URL:https://kronobergspistol.se/event/martenstraffen-morrum/
CATEGORIES:Fält
END:VEVENT
BEGIN:VEVENT
DTSTART;VALUE=DATE:20231022
DTEND;VALUE=DATE:20231023
DTSTAMP:20260422T034606
CREATED:20230104T181628Z
LAST-MODIFIED:20230929T151331Z
UID:3389-1697932800-1698019199@kronobergspistol.se
SUMMARY:Kretsfält 4 + KretsM Fält R
DESCRIPTION:Kretsfält 4 + KretsM Fält R \nArrangör\, Älmhults PK \nTävlingsinbjudan Kretsfält 4 2023
URL:https://kronobergspistol.se/event/kretsfalt-4-kretsm-falt-r-2/
CATEGORIES:Fält
END:VEVENT
BEGIN:VEVENT
DTSTART;VALUE=DATE:20231022
DTEND;VALUE=DATE:20231023
DTSTAMP:20260422T034606
CREATED:20230103T225755Z
LAST-MODIFIED:20230103T225755Z
UID:3349-1697932800-1698019199@kronobergspistol.se
SUMMARY:Hubertusfälten\, Västervik
DESCRIPTION:Hubertusfälten\, Västervik
URL:https://kronobergspistol.se/event/hubertusfalten-vastervik-2/
CATEGORIES:Fält
END:VEVENT
BEGIN:VEVENT
DTSTART;VALUE=DATE:20231007
DTEND;VALUE=DATE:20231008
DTSTAMP:20260422T034606
CREATED:20230103T225522Z
LAST-MODIFIED:20230103T225522Z
UID:3345-1696636800-1696723199@kronobergspistol.se
SUMMARY:Figurskjutning\, Stävie
DESCRIPTION:Figurskjutning\, Stävie
URL:https://kronobergspistol.se/event/figurskjutning-stavie/
END:VEVENT
BEGIN:VEVENT
DTSTART;VALUE=DATE:20231001
DTEND;VALUE=DATE:20231002
DTSTAMP:20260422T034606
CREATED:20230104T181245Z
LAST-MODIFIED:20230929T151305Z
UID:3387-1696118400-1696204799@kronobergspistol.se
SUMMARY:Kretsfält 3 + KretsM Fält C
DESCRIPTION:Kretsfält 3 + KretsM Fält C \nArrangör Sportskyttarna Ljungby \nInbjudan Kretsmästerskap fält C 1okt
URL:https://kronobergspistol.se/event/kretsfalt-3-kretsm-falt-c/
CATEGORIES:Fält
END:VEVENT
BEGIN:VEVENT
DTSTART;VALUE=DATE:20231001
DTEND;VALUE=DATE:20231002
DTSTAMP:20260422T034606
CREATED:20230103T200415Z
LAST-MODIFIED:20230922T140920Z
UID:3343-1696118400-1696204799@kronobergspistol.se
SUMMARY:Inställd - Tjursboträffen\, Ankarsrum
DESCRIPTION:Tävlingen är inställd.\nTjursboträffen\, Fält \nArrangör\, Ankarsrum
URL:https://kronobergspistol.se/event/tjursbotraffen-ankarsrum/
CATEGORIES:Fält
END:VEVENT
BEGIN:VEVENT
DTSTART;VALUE=DATE:20230924
DTEND;VALUE=DATE:20230925
DTSTAMP:20260422T034606
CREATED:20230104T180731Z
LAST-MODIFIED:20230821T231402Z
UID:3385-1695513600-1695599999@kronobergspistol.se
SUMMARY:KretsM Mil snabb A + R
DESCRIPTION:KretsM Mil snabb A + R \nArrangör\, Växjö PK \n2023-09-24 KM Militärsnabb AR
URL:https://kronobergspistol.se/event/kretsm-mil-snabb-a-r/
CATEGORIES:Militär Snabbmatch
END:VEVENT
BEGIN:VEVENT
DTSTART;VALUE=DATE:20230923
DTEND;VALUE=DATE:20230924
DTSTAMP:20260422T034606
CREATED:20230103T200153Z
LAST-MODIFIED:20230103T200153Z
UID:3341-1695427200-1695513599@kronobergspistol.se
SUMMARY:Nationell fält\, Överum
DESCRIPTION:Nationell fält\, Överum
URL:https://kronobergspistol.se/event/nationell-falt-overum-2/
CATEGORIES:Fält
END:VEVENT
BEGIN:VEVENT
DTSTART;VALUE=DATE:20230917
DTEND;VALUE=DATE:20230918
DTSTAMP:20260422T034606
CREATED:20230104T174124Z
LAST-MODIFIED:20230911T232616Z
UID:3379-1694908800-1694995199@kronobergspistol.se
SUMMARY:KretsM Snabbskjutning
DESCRIPTION:KretsM Snabb\, Tingsryd PSK \n2023-09-17 KretsM Snabbskytte
URL:https://kronobergspistol.se/event/kretsm-snabbskjutning-2/
CATEGORIES:Snabbskjutning
END:VEVENT
BEGIN:VEVENT
DTSTART;VALUE=DATE:20230917
DTEND;VALUE=DATE:20230918
DTSTAMP:20260422T034606
CREATED:20230103T195959Z
LAST-MODIFIED:20230103T200102Z
UID:3339-1694908800-1694995199@kronobergspistol.se
SUMMARY:Döderhultsträffen
DESCRIPTION:Döderhultsträffen\, Fält\, \nArrangör\, Döderhult
URL:https://kronobergspistol.se/event/doderhultstraffen/
CATEGORIES:Fält
END:VEVENT
BEGIN:VEVENT
DTSTART;VALUE=DATE:20230916
DTEND;VALUE=DATE:20230917
DTSTAMP:20260422T034606
CREATED:20230103T174817Z
LAST-MODIFIED:20230103T175255Z
UID:3317-1694822400-1694908799@kronobergspistol.se
SUMMARY:Stegerydssnabben\, Johannishus
DESCRIPTION:Stegerydssnabben Mil.snabb \nPlats\, Johannishus \nArrangör\, Johannishus Psk
URL:https://kronobergspistol.se/event/stegerydssnabben-johannishus/
CATEGORIES:Militär Snabbmatch
END:VEVENT
BEGIN:VEVENT
DTSTART;VALUE=DATE:20230909
DTEND;VALUE=DATE:20230911
DTSTAMP:20260422T034606
CREATED:20230104T180318Z
LAST-MODIFIED:20230104T180318Z
UID:3383-1694217600-1694390399@kronobergspistol.se
SUMMARY:SSM Precision
DESCRIPTION:
URL:https://kronobergspistol.se/event/ssm-precision-3/
CATEGORIES:Precision
END:VEVENT
BEGIN:VEVENT
DTSTART;VALUE=DATE:20230903
DTEND;VALUE=DATE:20230904
DTSTAMP:20260422T034606
CREATED:20230104T175601Z
LAST-MODIFIED:20230827T200252Z
UID:3381-1693699200-1693785599@kronobergspistol.se
SUMMARY:Kretsban 4 + KretsM Prec C
DESCRIPTION:Kretsban 4 + KretsM Prec C \nArrangör\, Älmhults PK \nTävlingsinbjudan Kretsban 4 2023
URL:https://kronobergspistol.se/event/kretsban-4-kretsm-prec-c-2/
CATEGORIES:Precision
END:VEVENT
BEGIN:VEVENT
DTSTART;VALUE=DATE:20230827
DTEND;VALUE=DATE:20230828
DTSTAMP:20260422T034606
CREATED:20230103T174416Z
LAST-MODIFIED:20230103T195647Z
UID:3315-1693094400-1693180799@kronobergspistol.se
SUMMARY:Mil.snabb\, Mörrum
DESCRIPTION:Mil.snabb Mörrum\, \nArrangör Karlshamns Pk
URL:https://kronobergspistol.se/event/mil-snabb-morrum-2/
CATEGORIES:Militär Snabbmatch
END:VEVENT
BEGIN:VEVENT
DTSTART;VALUE=DATE:20230826
DTEND;VALUE=DATE:20230827
DTSTAMP:20260422T034606
CREATED:20230103T195200Z
LAST-MODIFIED:20230103T195345Z
UID:3337-1693008000-1693094399@kronobergspistol.se
SUMMARY:Mil-snabb\, Överum
DESCRIPTION:Mil-snabb\, Överum
URL:https://kronobergspistol.se/event/mil-snabb-overum/
CATEGORIES:Militär Snabbmatch
END:VEVENT
BEGIN:VEVENT
DTSTART;VALUE=DATE:20230820
DTEND;VALUE=DATE:20230821
DTSTAMP:20260422T034606
CREATED:20230104T173545Z
LAST-MODIFIED:20230806T175237Z
UID:3377-1692489600-1692575999@kronobergspistol.se
SUMMARY:Kretsban 3 + KretsM Prec A
DESCRIPTION:2023-08-20 Kretsban KretsM Prec A \n \nKretsban 3 + KretsM Prec A \nArrangör\, Lenhovda PK
URL:https://kronobergspistol.se/event/kretsban-3-kretsm-prec-a-2/
CATEGORIES:Precision
END:VEVENT
BEGIN:VEVENT
DTSTART;VALUE=DATE:20230808
DTEND;VALUE=DATE:20230814
DTSTAMP:20260422T034606
CREATED:20230104T172733Z
LAST-MODIFIED:20230104T173404Z
UID:3375-1691452800-1691971199@kronobergspistol.se
SUMMARY:SM\, Fält\, Prec\, MilSnabb\, Göteborg
DESCRIPTION:Svenskt Mästerskap i Fält\, Precision och MilSnabb \nPlats\, Göteborg \, \nMilsnabb\, Öckerö \nFält\, Prec\, Milsnabb\, Mölndal
URL:https://kronobergspistol.se/event/sm-falt-prec-milsnabb-goteborg/
CATEGORIES:Fält,Militär Snabbmatch,Precision
END:VEVENT
BEGIN:VEVENT
DTSTART;VALUE=DATE:20230729
DTEND;VALUE=DATE:20230730
DTSTAMP:20260422T034606
CREATED:20230103T174301Z
LAST-MODIFIED:20230103T174301Z
UID:3313-1690588800-1690675199@kronobergspistol.se
SUMMARY:Stegerydsträffen\, Johannishus
DESCRIPTION:Stegerydsträffen Precision \nPlats\, Johannishus \nArrangör\, Johannishus Psk
URL:https://kronobergspistol.se/event/stegerydstraffen-johannishus/
CATEGORIES:Precision
END:VEVENT
BEGIN:VEVENT
DTSTART;VALUE=DATE:20230702
DTEND;VALUE=DATE:20230703
DTSTAMP:20260422T034606
CREATED:20230607T214652Z
LAST-MODIFIED:20230607T214912Z
UID:4011-1688256000-1688342399@kronobergspistol.se
SUMMARY:Vimmerbyträffen
DESCRIPTION:2023-07-02 Vimmerbyträffen
URL:https://kronobergspistol.se/event/vimmerbytraffen-3/
CATEGORIES:Fält
END:VEVENT
END:VCALENDAR